BEGIN:VCALENDAR
VERSION:2.0
PRODID:Events Booking
BEGIN:VEVENT
UID:69ecabcab59ca
SUMMARY:Shaolin Qi Gong im Kreuttal - 8 Brokate Fortgeschrittene / 01.06.20
 26-22.06.2026
DESCRIPTION:Shaolin Qi Gong - 8 Brokate (Ba Duan Jin) - Fortgeschritten Kur
 s
 
 Datum: 01.06.2026 - 22.06.2026
 Uhrzeit: jeden Montag\, 19:00 - 20
 :00 Uhr
 Kursbetrag: € 60\,- ( 4 EH)
 Einzelstunde: nach Rückfrage
 
 Kursfrei am: ---
 Kursleiterin: Georg Vetchy - Yan Fu
 Anmeldung: siehe 
 weiter unten
 
LOCATION:2123 Unterolberndorf
DTSTART:20260601T170000Z
DTEND:20260601T180000Z
DTSTAMP:20260406T055144Z
ORGANIZER;CN=DANTIEN - Gesundheitspraxis:MAILTO:gesundheitspraxis@dantien.a
 t
GEO:48.434404;16.475772
X-APPLE-STRUCTURED-LOCATION;VALUE=URI;X-ADDRESS=2123 Unterolberndorf;X-APPL
 E-RADIUS=72;X-TITLE=Kreuttal:48.434404;16.475772
END:VEVENT
END:VCALENDAR