BEGIN:VCALENDAR
VERSION:2.0
PRODID:Events Booking
BEGIN:VEVENT
UID:69ecab438c8f4
SUMMARY:Shaolin Qi Gong im Kreuttal - 8 Brokate Fortgeschrittene / 13.04.20
 26-18.05.2026
DESCRIPTION:Shaolin Qi Gong - 8 Brokate (Ba Duan Jin) - Fortgeschritten Kur
 s
 
 Datum: 13.04.2026 - 18.05.2026
 Uhrzeit: jeden Montag\, 19:00 - 2
 0:00 Uhr
 Kursbetrag: € 60\,- ( 4 EH)
 Einzelstunde: nach Rückfrage

  Kursfrei am: 4.5.\, 11.5.2026
 Kursleiterin: Georg Vetchy - Yan Fu
 Anm
 eldung: siehe weiter unten
 
LOCATION:2123 Unterolberndorf
DTSTART:20260413T170000Z
DTEND:20260413T180000Z
DTSTAMP:20260406T054940Z
ORGANIZER;CN=DANTIEN - Gesundheitspraxis:MAILTO:gesundheitspraxis@dantien.a
 t
GEO:48.434404;16.475772
X-APPLE-STRUCTURED-LOCATION;VALUE=URI;X-ADDRESS=2123 Unterolberndorf;X-APPL
 E-RADIUS=72;X-TITLE=Kreuttal:48.434404;16.475772
END:VEVENT
END:VCALENDAR