BEGIN:VCALENDAR
VERSION:2.0
PRODID:Events Booking
BEGIN:VEVENT
UID:69ecab438dcec
SUMMARY:Shaolin Qi Gong - Yi Jin Jing - Fortgeschrittene / 02.06.2026-23.06
 .2026
DESCRIPTION:Shaolin Qi Gong - Yi Jin Jing - Fortgeschrittenen Kurs
 
 Dat
 um: 02.06.2026 - 23.06.2026
 Uhrzeit: jeden Dienstag\, 12:30 - 13:40 Uhr
 
 Kursbetrag: € 72\,- ( 4 EH)
 Einzelstunde: nach Rückfrage
 Kursfrei
  am: ---
 Kursleiterin: Georg Vetchy - Yan Fu
 Anmeldung: siehe weiter u
 nten
 
LOCATION:Praterstraße 17 im 2.Hof rechts\, 1020 Wien
DTSTART:20260602T103000Z
DTEND:20260602T114000Z
DTSTAMP:20260406T055624Z
ORGANIZER;CN=DANTIEN - Gesundheitspraxis:MAILTO:gesundheitspraxis@dantien.a
 t
GEO:48.213774;16.38208
X-APPLE-STRUCTURED-LOCATION;VALUE=URI;X-ADDRESS=Praterstraße 17 im 2.Hof r
 echts\, 1020 Wien;X-APPLE-RADIUS=72;X-TITLE=Dantien - Gesundheitspraxis:48
 .213774;16.38208
END:VEVENT
END:VCALENDAR