BEGIN:VCALENDAR
VERSION:2.0
PRODID:Events Booking
BEGIN:VEVENT
UID:69ecac1c5ea1c
SUMMARY:Shaolin Qi Gong - Yi Jin Jing - Fortgeschrittene / 14.04.2026-19.05
 .2026
DESCRIPTION:Shaolin Qi Gong - Yi Jin Jing - Fortgeschrittenen Kurs
 
 Dat
 um: 14.04.2026 - 19.05.2026
 Uhrzeit: jeden Dienstag\, 12:30 - 13:40 Uhr
 
 Kursbetrag: € 72\,- ( 4 EH)
 Einzelstunde: nach Rückfrage
 Kursfre
 i am: 5.5.\, 12.5.2026
 Kursleiterin: Georg Vetchy - Yan Fu
 Anmeldung: 
 siehe weiter unten
 
LOCATION:Praterstraße 17 im 2.Hof rechts\, 1020 Wien
DTSTART:20260414T103000Z
DTEND:20260414T114000Z
DTSTAMP:20260406T055444Z
ORGANIZER;CN=DANTIEN - Gesundheitspraxis:MAILTO:gesundheitspraxis@dantien.a
 t
GEO:48.213774;16.38208
X-APPLE-STRUCTURED-LOCATION;VALUE=URI;X-ADDRESS=Praterstraße 17 im 2.Hof r
 echts\, 1020 Wien;X-APPLE-RADIUS=72;X-TITLE=Dantien - Gesundheitspraxis:48
 .213774;16.38208
END:VEVENT
END:VCALENDAR